Workbook
Name Priority_Legal_Areas_for_Management_Review: Dashboard!$B$29
Name Regulation_39___Appoint_a_competent_Site_Safety_Supervisor__SSS__to_assist_compliance_with_CDM_Regulations.: CDM!$B$39
Name Section_15___Maintain_workplace__access_and_egress_in_safe_condition: OSHA!$B$7
Name Section_15___Provide_information__instruction__training_and_supervision_to_employees: OSHA!$B$6
Name Section_17___Ensure_activities_do_not_expose_non_employees_to_safety_and_health_risks: OSHA!$B$11
Name Section_18B___Conduct_and_implement_risk_assessment_at_workplace: OSHA!$B$15
Name Section_29___Appointment_of_Safety_and_Health_Officer: OSHA!$B$22
Name Section_29A___Appointment_of_OSH_Coordinator_at_workplace: OSHA!$B$23
Name Section_30___Establish_Safety_and_Health_Committee_where_required: OSHA!$B$24

Sheet Main
D3: OSHE Legal Compliance | P3: Assessment Date: | R3: =TODAY() -> 46285
P4: Assessment Scope: | R4: All Sites
D5: Main Navigation Terminal | P5: System Owner: | R5: HSSE
D6: Central entry point for legal applicability, compliance evaluation and management monitoring. | P6: Review Level: | R6: Management
B16: WORKFLOW | E16: Fill Home Questionnaire | H16: ➜ | J16: Review Applicable Legal Requirements | M16: ➜ | O16: Monitor through Dashboard
B21: ✓ | D21: SYSTEM STATUS | I21: EXCEL COMPATIBLE | M21: DATA CONTROL | Q21: NEED HELP?
D22: READY | I22: FORMULA-BASED | M22: INTERNAL USE | Q22: REFER GUIDE
D23: System is operational and ready for compliance evaluation. | I23: Built with Excel formulas for easy maintenance. | M23: For internal legal compliance monitoring only. | Q23: Use Dashboard_Input and user manual for guidance.
B27: ◎ Centralized legal compliance navigation | G27: ▦ Excel-friendly design | M27: ↗ Easy management overview

Sheet Home
A1: Legal Compliance Identification Checklist
A2: (OSH & Environmental Legal Requirement Identification)
A4: Assessor Name
A6: Assessed Location
A8: Specific area
A10: Date of Assessment
A12: Type of assessment
A14: A. Workforce & Organization Profile
A15: 1. Total number of workers (including subcontractors if applicable) | O15: Less than 4 | P15: 5 – 39 | Q15: 40 – 99 | R15: 100 persons and above
A16: ='back-data'!A13 -> Less than 4 | B16: FALSE | D16: =IF(COUNTIF(B16:B19,TRUE)>1,"Select only 1",IF(J16=0,"Please choose the most accurate number of workers at workplace.",O16)) -> Please choose the most accurate number of workers at workplace. | J16: =COUNTIF(B16:B19,TRUE) -> 0 | K16: =IF(J16=0,_xlfn._LONGTEXT("Note: This question determines the resources required for establishing a Safety and Health Committee (SHC) or appointing a Safety and Health Officer (SHO) or Occupational Safety and Health Coordinator (OSH-C), based on the total number of workers, includi","ng subcontractors.."),"") -> Note: This question determines the resources required for establishing a Safety and Health Committee (SHC) or appointing a Safety and Health Officer (SHO) or Occupational Safety and Health Coordinator (OSH-C), based on the total number of workers, including subcontractors.. | O16: =IF(AND(J16=1,B16=TRUE),"To comply general requirements of OSHA 1994",P16) | P16: =IF(AND(J16=1,B17=TRUE),"Workplace shall appoint OSH-C",Q16) | Q16: =IF(AND(J16=1,B18=TRUE),"Workplace shall appoint OSH-C & setup SHC",R16) | R16: =IF(AND(J16=1,B19=TRUE),"Workplace shall appoint OSH-C, setup the SHC & to confirm the class of industry to hire SHO","")
A17: ='back-data'!A14 -> 5 – 39 | B17: FALSE | O17: =OR(B17=TRUE,B18=TRUE,B19=TRUE) -> FALSE
A18: ='back-data'!A15 -> 40 – 99 | B18: FALSE
A19: ='back-data'!A16 -> 100 persons and above | B19: FALSE
A20: =IF('back-data'!$A$1=1,"Bahasa Malaysia: Jumlah pekerja, termasuk subkontraktor","") -> Bahasa Malaysia: Jumlah pekerja, termasuk subkontraktor | D20: Assessor Note (if applicable):
A22: 2. Engagement of contractors working daily at workplace
A23: Yes | B23: FALSE | D23: =IF(COUNTIF(B23:B24,TRUE)>1,"Select only 1",IF(COUNTIF(B23:B24,FALSE)=2,"Please select either “Yes” or “No.” Only one option may be selected.",CONCATENATE('back-data'!B20," - (",'back-data'!C20,")"))) -> Please select either “Yes” or “No.” Only one option may be selected. | K23: =IF(COUNTIF(B23:B24,TRUE),"",_xlfn._LONGTEXT("Note: means any person who contracts with a principal to carry out in whole or in part any work undertaken by the principal in the course of or for the purposes of the principal’s trade, business, profession or undertaking; Duty of Principal to ensure the"," safety and health of contractors (OSHA 1994)")) -> Note: means any person who contracts with a principal to carry out in whole or in part any work undertaken by the principal in the course of or for the purposes of the principal’s trade, business, profession or undertaking; Duty of Principal to ensure the safety and health of contractors (OSHA 1994) | O23: =IF(COUNTIF(B23:B24,FALSE)>1,"",P23) | P23: =IF(COUNTIF(B23:B24,TRUE)>1,"Select only 1",Q23) -> JAWAPAN2 | Q23: =IF(AND(B23=TRUE,B24=FALSE),"JAWAPAN 1","JAWAPAN2") -> JAWAPAN2
A24: No | B24: FALSE
A26: =IF('back-data'!$A$1=1,"Bahasa Malaysia:Pelantikan kontraktor pekerja harian di tempat kerja","") -> Bahasa Malaysia:Pelantikan kontraktor pekerja harian di tempat kerja | D26: Assessor Note (if applicable):
A28: 3. Employment of foreign workers
A29: Yes | B29: FALSE | D29: =IF(COUNTIF(B29:B30,TRUE)>1,"Select only 1",IF(COUNTIF(B29:B30,FALSE)=2,"Please select either “Yes” or “No.” Only one option may be selected.",CONCATENATE('back-data'!B21," - (",'back-data'!C21,")"))) -> Please select either “Yes” or “No.” Only one option may be selected. | K29: =IF(COUNTIF(B29:B30,TRUE),"","Note: This question helps ensure OSH requirements are applied equally to all workers, including foreign workers, regardless of nationality or citizenship.") -> Note: This question helps ensure OSH requirements are applied equally to all workers, including foreign workers, regardless of nationality or citizenship.
A30: No | B30: FALSE
A31: =IF('back-data'!$A$1=1,"Bahasa Malaysia:Menggaji pekerja asing","") -> Bahasa Malaysia:Menggaji pekerja asing
D32: Assessor Note (if applicable):
A34: 4. Use of young workers or apprentices
A35: Yes | B35: FALSE | D35: =IF(COUNTIF(B35:B36,TRUE)>1,"Select only 1",IF(COUNTIF(B35:B36,FALSE)=2,"Please select either “Yes” or “No.” Only one option may be selected.",CONCATENATE('back-data'!B22," - (",'back-data'!C22,")"))) -> Please select either “Yes” or “No.” Only one option may be selected. | K35: =IF(COUNTIF(B35:B36,TRUE),"",_xlfn._LONGTEXT("Note: A young person is an individual who is 15 years old or above but has not attained the age of 18 years, as defined under the Children and Young Persons (Employment) Act 1966. This question helps ensure young workers and apprentices are assigned suita","ble work and provided with appropriate supervision and protection in accordance with applicable legal requirements.")) -> Note: A young person is an individual who is 15 years old or above but has not attained the age of 18 years, as defined under the Children and Young Persons (Employment) Act 1966. This question helps ensure young workers and apprentices are assigned suitable work and provided with appropriate supervision and protection in accordance with applicable legal requirements.
A36: No | B36: FALSE
A37: =IF('back-data'!$A$1=1,"Bahasa Malaysia:Penggajian pekerja muda atau perantis","") -> Bahasa Malaysia:Penggajian pekerja muda atau perantis
D38: Assessor Note (if applicable):
A41: B. Critical Operations
A42: 5(a). Construction works
A43: Yes | B43: FALSE | D43: =IF(COUNTIF(B43:B44,TRUE)>1,"Select only 1",IF(COUNTIF(B43:B44,FALSE)=2,"Please select either “Yes” or “No.” Only one option may be selected.",CONCATENATE('back-data'!B23," - (",'back-data'!C23,")"))) -> Please select either “Yes” or “No.” Only one option may be selected. | K43: =IF(COUNTIF(B43:B44,TRUE),"",_xlfn._LONGTEXT("Note: Construction works means the construction, extension, installation, repair, maintenance, renewal, removal, renovation, alteration or demolition of buildings, structures, civil engineering works, utilities and related infrastructure (CIDB). This ques","tion helps identify whether construction activities are undertaken. Where applicable, compliance with the CIDB Act and Construction (Design and Management) Regulations (CDM) is required regardless of the size, duration or value of the construction project",".")) -> Note: Construction works means the construction, extension, installation, repair, maintenance, renewal, removal, renovation, alteration or demolition of buildings, structures, civil engineering works, utilities and related infrastructure (CIDB). This question helps identify whether construction activities are undertaken. Where applicable, compliance with the CIDB Act and Construction (Design and Management) Regulations (CDM) is required regardless of the size, duration or value of the construction project.
A44: No | B44: FALSE
A45: =IF('back-data'!$A$1=1,"Bahasa Malaysia:Kerja-kerja pembinaan","") -> Bahasa Malaysia:Kerja-kerja pembinaan
D46: Assessor Note (if applicable):
A48: 5(b). Construction works value exceeds RM10M
A49: Yes | B49: FALSE | D49: =IF(COUNTIF(B49:B50,TRUE)>1,"Select only 1",IF(COUNTIF(B49:B50,FALSE)=2,"Please select either “Yes” or “No.” Only one option may be selected.",CONCATENATE('back-data'!B24," - (",'back-data'!C24,")"))) -> Please select either “Yes” or “No.” Only one option may be selected. | K49: =IF(COUNTIF(B49:B50,TRUE),"",_xlfn._LONGTEXT("Note: The RM10 million project value threshold for appointing a SSS is not a statutory requirement under Malaysian legislation; it may instead be an internal policy, client specification, or contractual requirement. Compliance with the CIDB Act and CDM Re","gulations is required regardless of the size, duration or value of the construction project. Where construction work is carried out, the appointment of a Site Safety Supervisor (SSS) and other prescribed duty holders shall be made in accordance with appli","cable legal requirements.")) -> Note: The RM10 million project value threshold for appointing a SSS is not a statutory requirement under Malaysian legislation; it may instead be an internal policy, client specification, or contractual requirement. Compliance with the CIDB Act and CDM Regulations is required regardless of the size, duration or value of the construction project. Where construction work is carried out, the appointment of a Site Safety Supervisor (SSS) and other prescribed duty holders shall be made in accordance with applicable legal requirements.
A50: No | B50: FALSE
A51: =IF('back-data'!$A$1=1,"Bahasa Malaysia:Nilai kerja-kerja pembinaan melebihi RM10 juta","") -> Bahasa Malaysia:Nilai kerja-kerja pembinaan melebihi RM10 juta
D52: Assessor Note (if applicable):
A54: 6. Having 9 items of PTW work activities
...

Sheet Dashboard
B1: LEGAL COMPLIANCE DASHBOARD
B2: =CONCATENATE(Dashboard_Input!$C$6," | 2026 | Legal Compliance Checklist + Action Tracker") -> OSHE Legal Evaluation and Assessment | 2026 | Legal Compliance Checklist + Action Tracker
B3: Assessment Information
B4: Workplace | D4: =Home!B6 -> 0 | G4: Specific Area | I4: =Home!B8 -> 0
B5: Assessment Date | D5: =IF(Home!B10="","",Home!B10) | G5: Overall Status | I5: =Dashboard_Data!K31 -> Maintain Compliance
B7: Applicable Requirements | E7: Compliance Rate | H7: Non-Compliant Items | K7: Pending Evaluation
B8: =Dashboard_Data!D31 -> 76 | E8: =Dashboard_Data!I31 -> 1 | H8: =Dashboard_Data!G31 -> 0 | K8: =Dashboard_Data!H31 -> 0
B12: Management Direction
B13: =IF(Dashboard_Data!G31>0,"Action Required: Close non-compliant requirements in Action_Tracker, assign owners and verify evidence.",IF(Dashboard_Data!H31>0,"Pending Evaluation: Complete compliance evaluation for all applicable requirements before confirming status.",IF(Dashboard_Data!I31>=0.95,"Maintain Compliance: Keep evidence updated and continue scheduled legal compliance review.","Improve Compliance: Raise corrective actions and monitor closure to increase compliance rate."))) -> Maintain Compliance: Keep evidence updated and continue scheduled legal compliance review.
B17: Requirement Evaluation Summary | H17: Action Monitoring Summary
B18: Total Legal Requirements | D18: =Dashboard_Data!C31 -> 653 | E18: Scope identified | H18: Open Actions | J18: =COUNTIF(#REF!,"Open")+COUNTIF(#REF!,"In Progress") -> #REF! | K18: Still require closure
B19: Applicable Requirements | D19: =Dashboard_Data!D31 -> 76 | E19: Must be evaluated | H19: Overdue Actions | J19: =COUNTIF(#REF!,"Overdue") -> #REF! | K19: Needs management attention
B20: Not Applicable / NA | D20: =Dashboard_Data!E31 -> 576 | E20: Reason retained if required | H20: Due Soon | J20: =COUNTIF(#REF!,"Due Soon") -> #REF! | K20: Due within 7 days
B21: Evaluation Completion | D21: =Dashboard_Data!J31 -> 1 | E21: Comply + Not Comply / Applicable | H21: Closed Actions | J21: =COUNTIF(Action_Tracker!$G$5:$G$104,"Closed") -> 0 | K21: Evidence closed
B23: How Compliance Is Monitored
B24: 1. User completes Main checklist; applicability is generated in legal requirement tabs.
B25: 2. Applicable items are assessed as Comply / Not Comply; non-applicable items can be marked NA.
B26: 3. Dashboard_Data consolidates all law tabs into totals, compliance rate and pending evaluation.
B27: 4. Action_Tracker records owner, due date, evidence and RAG status for every gap.
B29: Priority Legal Areas for Management Review
B30: No. | C30: Legal Area | D30: Group | E30: Applicable | F30: Comply | G30: Not Comply | H30: Pending | I30: Compliance % | J30: Completion % | K30: Status | L30: Way Forward
B31: =IFERROR(IF(LARGE(Dashboard_Data!$L$2:$L$30,ROWS($B$31:B31))<0,"",1),"") -> 1 | C31: =IFERROR(IF(LARGE(Dashboard_Data!$L$2:$L$30,ROWS($B$31:B31))<0,"",INDEX(Dashboard_Data!$A$2:$A$30,MATCH(LARGE(Dashboard_Data!$L$2:$L$30,ROWS($B$31:B31)),Dashboard_Data!$L$2:$L$30,0))),"") -> OSHA 1994 | D31: =IF(C31="","",IFERROR(INDEX(Dashboard_Data!$B$2:$B$30,MATCH(LARGE(Dashboard_Data!$L$2:$L$30,ROWS($B$31:B31)),Dashboard_Data!$L$2:$L$30,0)),"")) -> Safety & Health | E31: =IF(C31="","",IFERROR(INDEX(Dashboard_Data!$D$2:$D$30,MATCH(LARGE(Dashboard_Data!$L$2:$L$30,ROWS($B$31:B31)),Dashboard_Data!$L$2:$L$30,0)),"")) -> 20 | F31: =IF(C31="","",IFERROR(INDEX(Dashboard_Data!$F$2:$F$30,MATCH(LARGE(Dashboard_Data!$L$2:$L$30,ROWS($B$31:B31)),Dashboard_Data!$L$2:$L$30,0)),"")) -> 20 | G31: =IF(C31="","",IFERROR(INDEX(Dashboard_Data!$G$2:$G$30,MATCH(LARGE(Dashboard_Data!$L$2:$L$30,ROWS($B$31:B31)),Dashboard_Data!$L$2:$L$30,0)),"")) -> 0 | H31: =IF(C31="","",IFERROR(INDEX(Dashboard_Data!$H$2:$H$30,MATCH(LARGE(Dashboard_Data!$L$2:$L$30,ROWS($B$31:B31)),Dashboard_Data!$L$2:$L$30,0)),"")) -> 0 | I31: =IF(C31="","",IFERROR(INDEX(Dashboard_Data!$I$2:$I$30,MATCH(LARGE(Dashboard_Data!$L$2:$L$30,ROWS($B$31:B31)),Dashboard_Data!$L$2:$L$30,0)),"")) -> 1 | J31: =IF(C31="","",IFERROR(INDEX(Dashboard_Data!$J$2:$J$30,MATCH(LARGE(Dashboard_Data!$L$2:$L$30,ROWS($B$31:B31)),Dashboard_Data!$L$2:$L$30,0)),"")) -> 1 | K31: =IF(C31="","",IFERROR(INDEX(Dashboard_Data!$K$2:$K$30,MATCH(LARGE(Dashboard_Data!$L$2:$L$30,ROWS($B$31:B31)),Dashboard_Data!$L$2:$L$30,0)),"")) -> Maintain Compliance | L31: =IF(C31="","",IF(K31="Action Required","Assign action owner + due date",IF(K31="Pending Evaluation","Complete compliance check",IF(K31="Maintain Compliance","Maintain evidence","Improve evidence/control")))) -> Maintain evidence
B32: =IFERROR(IF(LARGE(Dashboard_Data!$L$2:$L$30,ROWS($B$31:B32))<0,"",2),"") -> 2 | C32: =IFERROR(IF(LARGE(Dashboard_Data!$L$2:$L$30,ROWS($B$31:B32))<0,"",INDEX(Dashboard_Data!$A$2:$A$30,MATCH(LARGE(Dashboard_Data!$L$2:$L$30,ROWS($B$31:B32)),Dashboard_Data!$L$2:$L$30,0))),"") -> EQA 1974 | D32: =IF(C32="","",IFERROR(INDEX(Dashboard_Data!$B$2:$B$30,MATCH(LARGE(Dashboard_Data!$L$2:$L$30,ROWS($B$31:B32)),Dashboard_Data!$L$2:$L$30,0)),"")) -> Environment | E32: =IF(C32="","",IFERROR(INDEX(Dashboard_Data!$D$2:$D$30,MATCH(LARGE(Dashboard_Data!$L$2:$L$30,ROWS($B$31:B32)),Dashboard_Data!$L$2:$L$30,0)),"")) -> 22 | F32: =IF(C32="","",IFERROR(INDEX(Dashboard_Data!$F$2:$F$30,MATCH(LARGE(Dashboard_Data!$L$2:$L$30,ROWS($B$31:B32)),Dashboard_Data!$L$2:$L$30,0)),"")) -> 22 | G32: =IF(C32="","",IFERROR(INDEX(Dashboard_Data!$G$2:$G$30,MATCH(LARGE(Dashboard_Data!$L$2:$L$30,ROWS($B$31:B32)),Dashboard_Data!$L$2:$L$30,0)),"")) -> 0 | H32: =IF(C32="","",IFERROR(INDEX(Dashboard_Data!$H$2:$H$30,MATCH(LARGE(Dashboard_Data!$L$2:$L$30,ROWS($B$31:B32)),Dashboard_Data!$L$2:$L$30,0)),"")) -> 0 | I32: =IF(C32="","",IFERROR(INDEX(Dashboard_Data!$I$2:$I$30,MATCH(LARGE(Dashboard_Data!$L$2:$L$30,ROWS($B$31:B32)),Dashboard_Data!$L$2:$L$30,0)),"")) -> 1 | J32: =IF(C32="","",IFERROR(INDEX(Dashboard_Data!$J$2:$J$30,MATCH(LARGE(Dashboard_Data!$L$2:$L$30,ROWS($B$31:B32)),Dashboard_Data!$L$2:$L$30,0)),"")) -> 1 | K32: =IF(C32="","",IFERROR(INDEX(Dashboard_Data!$K$2:$K$30,MATCH(LARGE(Dashboard_Data!$L$2:$L$30,ROWS($B$31:B32)),Dashboard_Data!$L$2:$L$30,0)),"")) -> Maintain Compliance | L32: =IF(C32="","",IF(K32="Action Required","Assign action owner + due date",IF(K32="Pending Evaluation","Complete compliance check",IF(K32="Maintain Compliance","Maintain evidence","Improve evidence/control")))) -> Maintain evidence
B33: =IFERROR(IF(LARGE(Dashboard_Data!$L$2:$L$30,ROWS($B$31:B33))<0,"",3),"") -> 3 | C33: =IFERROR(IF(LARGE(Dashboard_Data!$L$2:$L$30,ROWS($B$31:B33))<0,"",INDEX(Dashboard_Data!$A$2:$A$30,MATCH(LARGE(Dashboard_Data!$L$2:$L$30,ROWS($B$31:B33)),Dashboard_Data!$L$2:$L$30,0))),"") -> FSA 1988 | D33: =IF(C33="","",IFERROR(INDEX(Dashboard_Data!$B$2:$B$30,MATCH(LARGE(Dashboard_Data!$L$2:$L$30,ROWS($B$31:B33)),Dashboard_Data!$L$2:$L$30,0)),"")) -> Fire Safety | E33: =IF(C33="","",IFERROR(INDEX(Dashboard_Data!$D$2:$D$30,MATCH(LARGE(Dashboard_Data!$L$2:$L$30,ROWS($B$31:B33)),Dashboard_Data!$L$2:$L$30,0)),"")) -> 25 | F33: =IF(C33="","",IFERROR(INDEX(Dashboard_Data!$F$2:$F$30,MATCH(LARGE(Dashboard_Data!$L$2:$L$30,ROWS($B$31:B33)),Dashboard_Data!$L$2:$L$30,0)),"")) -> 25 | G33: =IF(C33="","",IFERROR(INDEX(Dashboard_Data!$G$2:$G$30,MATCH(LARGE(Dashboard_Data!$L$2:$L$30,ROWS($B$31:B33)),Dashboard_Data!$L$2:$L$30,0)),"")) -> 0 | H33: =IF(C33="","",IFERROR(INDEX(Dashboard_Data!$H$2:$H$30,MATCH(LARGE(Dashboard_Data!$L$2:$L$30,ROWS($B$31:B33)),Dashboard_Data!$L$2:$L$30,0)),"")) -> 0 | I33: =IF(C33="","",IFERROR(INDEX(Dashboard_Data!$I$2:$I$30,MATCH(LARGE(Dashboard_Data!$L$2:$L$30,ROWS($B$31:B33)),Dashboard_Data!$L$2:$L$30,0)),"")) -> 1 | J33: =IF(C33="","",IFERROR(INDEX(Dashboard_Data!$J$2:$J$30,MATCH(LARGE(Dashboard_Data!$L$2:$L$30,ROWS($B$31:B33)),Dashboard_Data!$L$2:$L$30,0)),"")) -> 1 | K33: =IF(C33="","",IFERROR(INDEX(Dashboard_Data!$K$2:$K$30,MATCH(LARGE(Dashboard_Data!$L$2:$L$30,ROWS($B$31:B33)),Dashboard_Data!$L$2:$L$30,0)),"")) -> Maintain Compliance | L33: =IF(C33="","",IF(K33="Action Required","Assign action owner + due date",IF(K33="Pending Evaluation","Complete compliance check",IF(K33="Maintain Compliance","Maintain evidence","Improve evidence/control")))) -> Maintain evidence
B34: =IFERROR(IF(LARGE(Dashboard_Data!$L$2:$L$30,ROWS($B$31:B34))<0,"",4),"") -> 4 | C34: =IFERROR(IF(LARGE(Dashboard_Data!$L$2:$L$30,ROWS($B$31:B34))<0,"",INDEX(Dashboard_Data!$A$2:$A$30,MATCH(LARGE(Dashboard_Data!$L$2:$L$30,ROWS($B$31:B34)),Dashboard_Data!$L$2:$L$30,0))),"") -> OSH (NADOPOD) Reg. 2004 | D34: =IF(C34="","",IFERROR(INDEX(Dashboard_Data!$B$2:$B$30,MATCH(LARGE(Dashboard_Data!$L$2:$L$30,ROWS($B$31:B34)),Dashboard_Data!$L$2:$L$30,0)),"")) -> Safety & Health | E34: =IF(C34="","",IFERROR(INDEX(Dashboard_Data!$D$2:$D$30,MATCH(LARGE(Dashboard_Data!$L$2:$L$30,ROWS($B$31:B34)),Dashboard_Data!$L$2:$L$30,0)),"")) -> 8 | F34: =IF(C34="","",IFERROR(INDEX(Dashboard_Data!$F$2:$F$30,MATCH(LARGE(Dashboard_Data!$L$2:$L$30,ROWS($B$31:B34)),Dashboard_Data!$L$2:$L$30,0)),"")) -> 8 | G34: =IF(C34="","",IFERROR(INDEX(Dashboard_Data!$G$2:$G$30,MATCH(LARGE(Dashboard_Data!$L$2:$L$30,ROWS($B$31:B34)),Dashboard_Data!$L$2:$L$30,0)),"")) -> 0 | H34: =IF(C34="","",IFERROR(INDEX(Dashboard_Data!$H$2:$H$30,MATCH(LARGE(Dashboard_Data!$L$2:$L$30,ROWS($B$31:B34)),Dashboard_Data!$L$2:$L$30,0)),"")) -> 0 | I34: =IF(C34="","",IFERROR(INDEX(Dashboard_Data!$I$2:$I$30,MATCH(LARGE(Dashboard_Data!$L$2:$L$30,ROWS($B$31:B34)),Dashboard_Data!$L$2:$L$30,0)),"")) -> 1 | J34: =IF(C34="","",IFERROR(INDEX(Dashboard_Data!$J$2:$J$30,MATCH(LARGE(Dashboard_Data!$L$2:$L$30,ROWS($B$31:B34)),Dashboard_Data!$L$2:$L$30,0)),"")) -> 1 | K34: =IF(C34="","",IFERROR(INDEX(Dashboard_Data!$K$2:$K$30,MATCH(LARGE(Dashboard_Data!$L$2:$L$30,ROWS($B$31:B34)),Dashboard_Data!$L$2:$L$30,0)),"")) -> Maintain Compliance | L34: =IF(C34="","",IF(K34="Action Required","Assign action owner + due date",IF(K34="Pending Evaluation","Complete compliance check",IF(K34="Maintain Compliance","Maintain evidence","Improve evidence/control")))) -> Maintain evidence
B35: =IFERROR(IF(LARGE(Dashboard_Data!$L$2:$L$30,ROWS($B$31:B35))<0,"",5),"") -> 5 | C35: =IFERROR(IF(LARGE(Dashboard_Data!$L$2:$L$30,ROWS($B$31:B35))<0,"",INDEX(Dashboard_Data!$A$2:$A$30,MATCH(LARGE(Dashboard_Data!$L$2:$L$30,ROWS($B$31:B35)),Dashboard_Data!$L$2:$L$30,0))),"") -> OSH (Noise Exp.) Reg. 2019 | D35: =IF(C35="","",IFERROR(INDEX(Dashboard_Data!$B$2:$B$30,MATCH(LARGE(Dashboard_Data!$L$2:$L$30,ROWS($B$31:B35)),Dashboard_Data!$L$2:$L$30,0)),"")) -> Safety & Health | E35: =IF(C35="","",IFERROR(INDEX(Dashboard_Data!$D$2:$D$30,MATCH(LARGE(Dashboard_Data!$L$2:$L$30,ROWS($B$31:B35)),Dashboard_Data!$L$2:$L$30,0)),"")) -> 1 | F35: =IF(C35="","",IFERROR(INDEX(Dashboard_Data!$F$2:$F$30,MATCH(LARGE(Dashboard_Data!$L$2:$L$30,ROWS($B$31:B35)),Dashboard_Data!$L$2:$L$30,0)),"")) -> 1 | G35: =IF(C35="","",IFERROR(INDEX(Dashboard_Data!$G$2:$G$30,MATCH(LARGE(Dashboard_Data!$L$2:$L$30,ROWS($B$31:B35)),Dashboard_Data!$L$2:$L$30,0)),"")) -> 0 | H35: =IF(C35="","",IFERROR(INDEX(Dashboard_Data!$H$2:$H$30,MATCH(LARGE(Dashboard_Data!$L$2:$L$30,ROWS($B$31:B35)),Dashboard_Data!$L$2:$L$30,0)),"")) -> 0 | I35: =IF(C35="","",IFERROR(INDEX(Dashboard_Data!$I$2:$I$30,MATCH(LARGE(Dashboard_Data!$L$2:$L$30,ROWS($B$31:B35)),Dashboard_Data!$L$2:$L$30,0)),"")) -> 1 | J35: =IF(C35="","",IFERROR(INDEX(Dashboard_Data!$J$2:$J$30,MATCH(LARGE(Dashboard_Data!$L$2:$L$30,ROWS($B$31:B35)),Dashboard_Data!$L$2:$L$30,0)),"")) -> 1 | K35: =IF(C35="","",IFERROR(INDEX(Dashboard_Data!$K$2:$K$30,MATCH(LARGE(Dashboard_Data!$L$2:$L$30,ROWS($B$31:B35)),Dashboard_Data!$L$2:$L$30,0)),"")) -> Maintain Compliance | L35: =IF(C35="","",IF(K35="Action Required","Assign action owner + due date",IF(K35="Pending Evaluation","Complete compliance check",IF(K35="Maintain Compliance","Maintain evidence","Improve evidence/control")))) -> Maintain evidence
B36: =IFERROR(IF(LARGE(Dashboard_Data!$L$2:$L$30,ROWS($B$31:B36))<0,"",6),"") | C36: =IFERROR(IF(LARGE(Dashboard_Data!$L$2:$L$30,ROWS($B$31:B36))<0,"",INDEX(Dashboard_Data!$A$2:$A$30,MATCH(LARGE(Dashboard_Data!$L$2:$L$30,ROWS($B$31:B36)),Dashboard_Data!$L$2:$L$30,0))),"") | D36: =IF(C36="","",IFERROR(INDEX(Dashboard_Data!$B$2:$B$30,MATCH(LARGE(Dashboard_Data!$L$2:$L$30,ROWS($B$31:B36)),Dashboard_Data!$L$2:$L$30,0)),"")) | E36: =IF(C36="","",IFERROR(INDEX(Dashboard_Data!$D$2:$D$30,MATCH(LARGE(Dashboard_Data!$L$2:$L$30,ROWS($B$31:B36)),Dashboard_Data!$L$2:$L$30,0)),"")) | F36: =IF(C36="","",IFERROR(INDEX(Dashboard_Data!$F$2:$F$30,MATCH(LARGE(Dashboard_Data!$L$2:$L$30,ROWS($B$31:B36)),Dashboard_Data!$L$2:$L$30,0)),"")) | G36: =IF(C36="","",IFERROR(INDEX(Dashboard_Data!$G$2:$G$30,MATCH(LARGE(Dashboard_Data!$L$2:$L$30,ROWS($B$31:B36)),Dashboard_Data!$L$2:$L$30,0)),"")) | H36: =IF(C36="","",IFERROR(INDEX(Dashboard_Data!$H$2:$H$30,MATCH(LARGE(Dashboard_Data!$L$2:$L$30,ROWS($B$31:B36)),Dashboard_Data!$L$2:$L$30,0)),"")) | I36: =IF(C36="","",IFERROR(INDEX(Dashboard_Data!$I$2:$I$30,MATCH(LARGE(Dashboard_Data!$L$2:$L$30,ROWS($B$31:B36)),Dashboard_Data!$L$2:$L$30,0)),"")) | J36: =IF(C36="","",IFERROR(INDEX(Dashboard_Data!$J$2:$J$30,MATCH(LARGE(Dashboard_Data!$L$2:$L$30,ROWS($B$31:B36)),Dashboard_Data!$L$2:$L$30,0)),"")) | K36: =IF(C36="","",IFERROR(INDEX(Dashboard_Data!$K$2:$K$30,MATCH(LARGE(Dashboard_Data!$L$2:$L$30,ROWS($B$31:B36)),Dashboard_Data!$L$2:$L$30,0)),"")) | L36: =IF(C36="","",IF(K36="Action Required","Assign action owner + due date",IF(K36="Pending Evaluation","Complete compliance check",IF(K36="Maintain Compliance","Maintain evidence","Improve evidence/control"))))
B37: =IFERROR(IF(LARGE(Dashboard_Data!$L$2:$L$30,ROWS($B$31:B37))<0,"",7),"") | C37: =IFERROR(IF(LARGE(Dashboard_Data!$L$2:$L$30,ROWS($B$31:B37))<0,"",INDEX(Dashboard_Data!$A$2:$A$30,MATCH(LARGE(Dashboard_Data!$L$2:$L$30,ROWS($B$31:B37)),Dashboard_Data!$L$2:$L$30,0))),"") | D37: =IF(C37="","",IFERROR(INDEX(Dashboard_Data!$B$2:$B$30,MATCH(LARGE(Dashboard_Data!$L$2:$L$30,ROWS($B$31:B37)),Dashboard_Data!$L$2:$L$30,0)),"")) | E37: =IF(C37="","",IFERROR(INDEX(Dashboard_Data!$D$2:$D$30,MATCH(LARGE(Dashboard_Data!$L$2:$L$30,ROWS($B$31:B37)),Dashboard_Data!$L$2:$L$30,0)),"")) | F37: =IF(C37="","",IFERROR(INDEX(Dashboard_Data!$F$2:$F$30,MATCH(LARGE(Dashboard_Data!$L$2:$L$30,ROWS($B$31:B37)),Dashboard_Data!$L$2:$L$30,0)),"")) | G37: =IF(C37="","",IFERROR(INDEX(Dashboard_Data!$G$2:$G$30,MATCH(LARGE(Dashboard_Data!$L$2:$L$30,ROWS($B$31:B37)),Dashboard_Data!$L$2:$L$30,0)),"")) | H37: =IF(C37="","",IFERROR(INDEX(Dashboard_Data!$H$2:$H$30,MATCH(LARGE(Dashboard_Data!$L$2:$L$30,ROWS($B$31:B37)),Dashboard_Data!$L$2:$L$30,0)),"")) | I37: =IF(C37="","",IFERROR(INDEX(Dashboard_Data!$I$2:$I$30,MATCH(LARGE(Dashboard_Data!$L$2:$L$30,ROWS($B$31:B37)),Dashboard_Data!$L$2:$L$30,0)),"")) | J37: =IF(C37="","",IFERROR(INDEX(Dashboard_Data!$J$2:$J$30,MATCH(LARGE(Dashboard_Data!$L$2:$L$30,ROWS($B$31:B37)),Dashboard_Data!$L$2:$L$30,0)),"")) | K37: =IF(C37="","",IFERROR(INDEX(Dashboard_Data!$K$2:$K$30,MATCH(LARGE(Dashboard_Data!$L$2:$L$30,ROWS($B$31:B37)),Dashboard_Data!$L$2:$L$30,0)),"")) | L37: =IF(C37="","",IF(K37="Action Required","Assign action owner + due date",IF(K37="Pending Evaluation","Complete compliance check",IF(K37="Maintain Compliance","Maintain evidence","Improve evidence/control"))))
B38: =IFERROR(IF(LARGE(Dashboard_Data!$L$2:$L$30,ROWS($B$31:B38))<0,"",8),"") | C38: =IFERROR(IF(LARGE(Dashboard_Data!$L$2:$L$30,ROWS($B$31:B38))<0,"",INDEX(Dashboard_Data!$A$2:$A$30,MATCH(LARGE(Dashboard_Data!$L$2:$L$30,ROWS($B$31:B38)),Dashboard_Data!$L$2:$L$30,0))),"") | D38: =IF(C38="","",IFERROR(INDEX(Dashboard_Data!$B$2:$B$30,MATCH(LARGE(Dashboard_Data!$L$2:$L$30,ROWS($B$31:B38)),Dashboard_Data!$L$2:$L$30,0)),"")) | E38: =IF(C38="","",IFERROR(INDEX(Dashboard_Data!$D$2:$D$30,MATCH(LARGE(Dashboard_Data!$L$2:$L$30,ROWS($B$31:B38)),Dashboard_Data!$L$2:$L$30,0)),"")) | F38: =IF(C38="","",IFERROR(INDEX(Dashboard_Data!$F$2:$F$30,MATCH(LARGE(Dashboard_Data!$L$2:$L$30,ROWS($B$31:B38)),Dashboard_Data!$L$2:$L$30,0)),"")) | G38: =IF(C38="","",IFERROR(INDEX(Dashboard_Data!$G$2:$G$30,MATCH(LARGE(Dashboard_Data!$L$2:$L$30,ROWS($B$31:B38)),Dashboard_Data!$L$2:$L$30,0)),"")) | H38: =IF(C38="","",IFERROR(INDEX(Dashboard_Data!$H$2:$H$30,MATCH(LARGE(Dashboard_Data!$L$2:$L$30,ROWS($B$31:B38)),Dashboard_Data!$L$2:$L$30,0)),"")) | I38: =IF(C38="","",IFERROR(INDEX(Dashboard_Data!$I$2:$I$30,MATCH(LARGE(Dashboard_Data!$L$2:$L$30,ROWS($B$31:B38)),Dashboard_Data!$L$2:$L$30,0)),"")) | J38: =IF(C38="","",IFERROR(INDEX(Dashboard_Data!$J$2:$J$30,MATCH(LARGE(Dashboard_Data!$L$2:$L$30,ROWS($B$31:B38)),Dashboard_Data!$L$2:$L$30,0)),"")) | K38: =IF(C38="","",IFERROR(INDEX(Dashboard_Data!$K$2:$K$30,MATCH(LARGE(Dashboard_Data!$L$2:$L$30,ROWS($B$31:B38)),Dashboard_Data!$L$2:$L$30,0)),"")) | L38: =IF(C38="","",IF(K38="Action Required","Assign action owner + due date",IF(K38="Pending Evaluation","Complete compliance check",IF(K38="Maintain Compliance","Maintain evidence","Improve evidence/control"))))
B39: =IFERROR(IF(LARGE(Dashboard_Data!$L$2:$L$30,ROWS($B$31:B39))<0,"",9),"") | C39: =IFERROR(IF(LARGE(Dashboard_Data!$L$2:$L$30,ROWS($B$31:B39))<0,"",INDEX(Dashboard_Data!$A$2:$A$30,MATCH(LARGE(Dashboard_Data!$L$2:$L$30,ROWS($B$31:B39)),Dashboard_Data!$L$2:$L$30,0))),"") | D39: =IF(C39="","",IFERROR(INDEX(Dashboard_Data!$B$2:$B$30,MATCH(LARGE(Dashboard_Data!$L$2:$L$30,ROWS($B$31:B39)),Dashboard_Data!$L$2:$L$30,0)),"")) | E39: =IF(C39="","",IFERROR(INDEX(Dashboard_Data!$D$2:$D$30,MATCH(LARGE(Dashboard_Data!$L$2:$L$30,ROWS($B$31:B39)),Dashboard_Data!$L$2:$L$30,0)),"")) | F39: =IF(C39="","",IFERROR(INDEX(Dashboard_Data!$F$2:$F$30,MATCH(LARGE(Dashboard_Data!$L$2:$L$30,ROWS($B$31:B39)),Dashboard_Data!$L$2:$L$30,0)),"")) | G39: =IF(C39="","",IFERROR(INDEX(Dashboard_Data!$G$2:$G$30,MATCH(LARGE(Dashboard_Data!$L$2:$L$30,ROWS($B$31:B39)),Dashboard_Data!$L$2:$L$30,0)),"")) | H39: =IF(C39="","",IFERROR(INDEX(Dashboard_Data!$H$2:$H$30,MATCH(LARGE(Dashboard_Data!$L$2:$L$30,ROWS($B$31:B39)),Dashboard_Data!$L$2:$L$30,0)),"")) | I39: =IF(C39="","",IFERROR(INDEX(Dashboard_Data!$I$2:$I$30,MATCH(LARGE(Dashboard_Data!$L$2:$L$30,ROWS($B$31:B39)),Dashboard_Data!$L$2:$L$30,0)),"")) | J39: =IF(C39="","",IFERROR(INDEX(Dashboard_Data!$J$2:$J$30,MATCH(LARGE(Dashboard_Data!$L$2:$L$30,ROWS($B$31:B39)),Dashboard_Data!$L$2:$L$30,0)),"")) | K39: =IF(C39="","",IFERROR(INDEX(Dashboard_Data!$K$2:$K$30,MATCH(LARGE(Dashboard_Data!$L$2:$L$30,ROWS($B$31:B39)),Dashboard_Data!$L$2:$L$30,0)),"")) | L39: =IF(C39="","",IF(K39="Action Required","Assign action owner + due date",IF(K39="Pending Evaluation","Complete compliance check",IF(K39="Maintain Compliance","Maintain evidence","Improve evidence/control"))))
B40: =IFERROR(IF(LARGE(Dashboard_Data!$L$2:$L$30,ROWS($B$31:B40))<0,"",10),"") | C40: =IFERROR(IF(LARGE(Dashboard_Data!$L$2:$L$30,ROWS($B$31:B40))<0,"",INDEX(Dashboard_Data!$A$2:$A$30,MATCH(LARGE(Dashboard_Data!$L$2:$L$30,ROWS($B$31:B40)),Dashboard_Data!$L$2:$L$30,0))),"") | D40: =IF(C40="","",IFERROR(INDEX(Dashboard_Data!$B$2:$B$30,MATCH(LARGE(Dashboard_Data!$L$2:$L$30,ROWS($B$31:B40)),Dashboard_Data!$L$2:$L$30,0)),"")) | E40: =IF(C40="","",IFERROR(INDEX(Dashboard_Data!$D$2:$D$30,MATCH(LARGE(Dashboard_Data!$L$2:$L$30,ROWS($B$31:B40)),Dashboard_Data!$L$2:$L$30,0)),"")) | F40: =IF(C40="","",IFERROR(INDEX(Dashboard_Data!$F$2:$F$30,MATCH(LARGE(Dashboard_Data!$L$2:$L$30,ROWS($B$31:B40)),Dashboard_Data!$L$2:$L$30,0)),"")) | G40: =IF(C40="","",IFERROR(INDEX(Dashboard_Data!$G$2:$G$30,MATCH(LARGE(Dashboard_Data!$L$2:$L$30,ROWS($B$31:B40)),Dashboard_Data!$L$2:$L$30,0)),"")) | H40: =IF(C40="","",IFERROR(INDEX(Dashboard_Data!$H$2:$H$30,MATCH(LARGE(Dashboard_Data!$L$2:$L$30,ROWS($B$31:B40)),Dashboard_Data!$L$2:$L$30,0)),"")) | I40: =IF(C40="","",IFERROR(INDEX(Dashboard_Data!$I$2:$I$30,MATCH(LARGE(Dashboard_Data!$L$2:$L$30,ROWS($B$31:B40)),Dashboard_Data!$L$2:$L$30,0)),"")) | J40: =IF(C40="","",IFERROR(INDEX(Dashboard_Data!$J$2:$J$30,MATCH(LARGE(Dashboard_Data!$L$2:$L$30,ROWS($B$31:B40)),Dashboard_Data!$L$2:$L$30,0)),"")) | K40: =IF(C40="","",IFERROR(INDEX(Dashboard_Data!$K$2:$K$30,MATCH(LARGE(Dashboard_Data!$L$2:$L$30,ROWS($B$31:B40)),Dashboard_Data!$L$2:$L$30,0)),"")) | L40: =IF(C40="","",IF(K40="Action Required","Assign action owner + due date",IF(K40="Pending Evaluation","Complete compliance check",IF(K40="Maintain Compliance","Maintain evidence","Improve evidence/control"))))
B41: =IFERROR(IF(LARGE(Dashboard_Data!$L$2:$L$30,ROWS($B$31:B41))<0,"",11),"") | C41: =IFERROR(IF(LARGE(Dashboard_Data!$L$2:$L$30,ROWS($B$31:B41))<0,"",INDEX(Dashboard_Data!$A$2:$A$30,MATCH(LARGE(Dashboard_Data!$L$2:$L$30,ROWS($B$31:B41)),Dashboard_Data!$L$2:$L$30,0))),"") | D41: =IF(C41="","",IFERROR(INDEX(Dashboard_Data!$B$2:$B$30,MATCH(LARGE(Dashboard_Data!$L$2:$L$30,ROWS($B$31:B41)),Dashboard_Data!$L$2:$L$30,0)),"")) | E41: =IF(C41="","",IFERROR(INDEX(Dashboard_Data!$D$2:$D$30,MATCH(LARGE(Dashboard_Data!$L$2:$L$30,ROWS($B$31:B41)),Dashboard_Data!$L$2:$L$30,0)),"")) | F41: =IF(C41="","",IFERROR(INDEX(Dashboard_Data!$F$2:$F$30,MATCH(LARGE(Dashboard_Data!$L$2:$L$30,ROWS($B$31:B41)),Dashboard_Data!$L$2:$L$30,0)),"")) | G41: =IF(C41="","",IFERROR(INDEX(Dashboard_Data!$G$2:$G$30,MATCH(LARGE(Dashboard_Data!$L$2:$L$30,ROWS($B$31:B41)),Dashboard_Data!$L$2:$L$30,0)),"")) | H41: =IF(C41="","",IFERROR(INDEX(Dashboard_Data!$H$2:$H$30,MATCH(LARGE(Dashboard_Data!$L$2:$L$30,ROWS($B$31:B41)),Dashboard_Data!$L$2:$L$30,0)),"")) | I41: =IF(C41="","",IFERROR(INDEX(Dashboard_Data!$I$2:$I$30,MATCH(LARGE(Dashboard_Data!$L$2:$L$30,ROWS($B$31:B41)),Dashboard_Data!$L$2:$L$30,0)),"")) | J41: =IF(C41="","",IFERROR(INDEX(Dashboard_Data!$J$2:$J$30,MATCH(LARGE(Dashboard_Data!$L$2:$L$30,ROWS($B$31:B41)),Dashboard_Data!$L$2:$L$30,0)),"")) | K41: =IF(C41="","",IFERROR(INDEX(Dashboard_Data!$K$2:$K$30,MATCH(LARGE(Dashboard_Data!$L$2:$L$30,ROWS($B$31:B41)),Dashboard_Data!$L$2:$L$30,0)),"")) | L41: =IF(C41="","",IF(K41="Action Required","Assign action owner + due date",IF(K41="Pending Evaluation","Complete compliance check",IF(K41="Maintain Compliance","Maintain evidence","Improve evidence/control"))))
B42: =IFERROR(IF(LARGE(Dashboard_Data!$L$2:$L$30,ROWS($B$31:B42))<0,"",12),"") | C42: =IFERROR(IF(LARGE(Dashboard_Data!$L$2:$L$30,ROWS($B$31:B42))<0,"",INDEX(Dashboard_Data!$A$2:$A$30,MATCH(LARGE(Dashboard_Data!$L$2:$L$30,ROWS($B$31:B42)),Dashboard_Data!$L$2:$L$30,0))),"") | D42: =IF(C42="","",IFERROR(INDEX(Dashboard_Data!$B$2:$B$30,MATCH(LARGE(Dashboard_Data!$L$2:$L$30,ROWS($B$31:B42)),Dashboard_Data!$L$2:$L$30,0)),"")) | E42: =IF(C42="","",IFERROR(INDEX(Dashboard_Data!$D$2:$D$30,MATCH(LARGE(Dashboard_Data!$L$2:$L$30,ROWS($B$31:B42)),Dashboard_Data!$L$2:$L$30,0)),"")) | F42: =IF(C42="","",IFERROR(INDEX(Dashboard_Data!$F$2:$F$30,MATCH(LARGE(Dashboard_Data!$L$2:$L$30,ROWS($B$31:B42)),Dashboard_Data!$L$2:$L$30,0)),"")) | G42: =IF(C42="","",IFERROR(INDEX(Dashboard_Data!$G$2:$G$30,MATCH(LARGE(Dashboard_Data!$L$2:$L$30,ROWS($B$31:B42)),Dashboard_Data!$L$2:$L$30,0)),"")) | H42: =IF(C42="","",IFERROR(INDEX(Dashboard_Data!$H$2:$H$30,MATCH(LARGE(Dashboard_Data!$L$2:$L$30,ROWS($B$31:B42)),Dashboard_Data!$L$2:$L$30,0)),"")) | I42: =IF(C42="","",IFERROR(INDEX(Dashboard_Data!$I$2:$I$30,MATCH(LARGE(Dashboard_Data!$L$2:$L$30,ROWS($B$31:B42)),Dashboard_Data!$L$2:$L$30,0)),"")) | J42: =IF(C42="","",IFERROR(INDEX(Dashboard_Data!$J$2:$J$30,MATCH(LARGE(Dashboard_Data!$L$2:$L$30,ROWS($B$31:B42)),Dashboard_Data!$L$2:$L$30,0)),"")) | K42: =IF(C42="","",IFERROR(INDEX(Dashboard_Data!$K$2:$K$30,MATCH(LARGE(Dashboard_Data!$L$2:$L$30,ROWS($B$31:B42)),Dashboard_Data!$L$2:$L$30,0)),"")) | L42: =IF(C42="","",IF(K42="Action Required","Assign action owner + due date",IF(K42="Pending Evaluation","Complete compliance check",IF(K42="Maintain Compliance","Maintain evidence","Improve evidence/control"))))
B43: =IFERROR(IF(LARGE(Dashboard_Data!$L$2:$L$30,ROWS($B$31:B43))<0,"",13),"") | C43: =IFERROR(IF(LARGE(Dashboard_Data!$L$2:$L$30,ROWS($B$31:B43))<0,"",INDEX(Dashboard_Data!$A$2:$A$30,MATCH(LARGE(Dashboard_Data!$L$2:$L$30,ROWS($B$31:B43)),Dashboard_Data!$L$2:$L$30,0))),"") | D43: =IF(C43="","",IFERROR(INDEX(Dashboard_Data!$B$2:$B$30,MATCH(LARGE(Dashboard_Data!$L$2:$L$30,ROWS($B$31:B43)),Dashboard_Data!$L$2:$L$30,0)),"")) | E43: =IF(C43="","",IFERROR(INDEX(Dashboard_Data!$D$2:$D$30,MATCH(LARGE(Dashboard_Data!$L$2:$L$30,ROWS($B$31:B43)),Dashboard_Data!$L$2:$L$30,0)),"")) | F43: =IF(C43="","",IFERROR(INDEX(Dashboard_Data!$F$2:$F$30,MATCH(LARGE(Dashboard_Data!$L$2:$L$30,ROWS($B$31:B43)),Dashboard_Data!$L$2:$L$30,0)),"")) | G43: =IF(C43="","",IFERROR(INDEX(Dashboard_Data!$G$2:$G$30,MATCH(LARGE(Dashboard_Data!$L$2:$L$30,ROWS($B$31:B43)),Dashboard_Data!$L$2:$L$30,0)),"")) | H43: =IF(C43="","",IFERROR(INDEX(Dashboard_Data!$H$2:$H$30,MATCH(LARGE(Dashboard_Data!$L$2:$L$30,ROWS($B$31:B43)),Dashboard_Data!$L$2:$L$30,0)),"")) | I43: =IF(C43="","",IFERROR(INDEX(Dashboard_Data!$I$2:$I$30,MATCH(LARGE(Dashboard_Data!$L$2:$L$30,ROWS($B$31:B43)),Dashboard_Data!$L$2:$L$30,0)),"")) | J43: =IF(C43="","",IFERROR(INDEX(Dashboard_Data!$J$2:$J$30,MATCH(LARGE(Dashboard_Data!$L$2:$L$30,ROWS($B$31:B43)),Dashboard_Data!$L$2:$L$30,0)),"")) | K43: =IF(C43="","",IFERROR(INDEX(Dashboard_Data!$K$2:$K$30,MATCH(LARGE(Dashboard_Data!$L$2:$L$30,ROWS($B$31:B43)),Dashboard_Data!$L$2:$L$30,0)),"")) | L43: =IF(C43="","",IF(K43="Action Required","Assign action owner + due date",IF(K43="Pending Evaluation","Complete compliance check",IF(K43="Maintain Compliance","Maintain evidence","Improve evidence/control"))))
B44: =IFERROR(IF(LARGE(Dashboard_Data!$L$2:$L$30,ROWS($B$31:B44))<0,"",14),"") | C44: =IFERROR(IF(LARGE(Dashboard_Data!$L$2:$L$30,ROWS($B$31:B44))<0,"",INDEX(Dashboard_Data!$A$2:$A$30,MATCH(LARGE(Dashboard_Data!$L$2:$L$30,ROWS($B$31:B44)),Dashboard_Data!$L$2:$L$30,0))),"") | D44: =IF(C44="","",IFERROR(INDEX(Dashboard_Data!$B$2:$B$30,MATCH(LARGE(Dashboard_Data!$L$2:$L$30,ROWS($B$31:B44)),Dashboard_Data!$L$2:$L$30,0)),"")) | E44: =IF(C44="","",IFERROR(INDEX(Dashboard_Data!$D$2:$D$30,MATCH(LARGE(Dashboard_Data!$L$2:$L$30,ROWS($B$31:B44)),Dashboard_Data!$L$2:$L$30,0)),"")) | F44: =IF(C44="","",IFERROR(INDEX(Dashboard_Data!$F$2:$F$30,MATCH(LARGE(Dashboard_Data!$L$2:$L$30,ROWS($B$31:B44)),Dashboard_Data!$L$2:$L$30,0)),"")) | G44: =IF(C44="","",IFERROR(INDEX(Dashboard_Data!$G$2:$G$30,MATCH(LARGE(Dashboard_Data!$L$2:$L$30,ROWS($B$31:B44)),Dashboard_Data!$L$2:$L$30,0)),"")) | H44: =IF(C44="","",IFERROR(INDEX(Dashboard_Data!$H$2:$H$30,MATCH(LARGE(Dashboard_Data!$L$2:$L$30,ROWS($B$31:B44)),Dashboard_Data!$L$2:$L$30,0)),"")) | I44: =IF(C44="","",IFERROR(INDEX(Dashboard_Data!$I$2:$I$30,MATCH(LARGE(Dashboard_Data!$L$2:$L$30,ROWS($B$31:B44)),Dashboard_Data!$L$2:$L$30,0)),"")) | J44: =IF(C44="","",IFERROR(INDEX(Dashboard_Data!$J$2:$J$30,MATCH(LARGE(Dashboard_Data!$L$2:$L$30,ROWS($B$31:B44)),Dashboard_Data!$L$2:$L$30,0)),"")) | K44: =IF(C44="","",IFERROR(INDEX(Dashboard_Data!$K$2:$K$30,MATCH(LARGE(Dashboard_Data!$L$2:$L$30,ROWS($B$31:B44)),Dashboard_Data!$L$2:$L$30,0)),"")) | L44: =IF(C44="","",IF(K44="Action Required","Assign action owner + due date",IF(K44="Pending Evaluation","Complete compliance check",IF(K44="Maintain Compliance","Maintain evidence","Improve evidence/control"))))
B45: =IFERROR(IF(LARGE(Dashboard_Data!$L$2:$L$30,ROWS($B$31:B45))<0,"",15),"") | C45: =IFERROR(IF(LARGE(Dashboard_Data!$L$2:$L$30,ROWS($B$31:B45))<0,"",INDEX(Dashboard_Data!$A$2:$A$30,MATCH(LARGE(Dashboard_Data!$L$2:$L$30,ROWS($B$31:B45)),Dashboard_Data!$L$2:$L$30,0))),"") | D45: =IF(C45="","",IFERROR(INDEX(Dashboard_Data!$B$2:$B$30,MATCH(LARGE(Dashboard_Data!$L$2:$L$30,ROWS($B$31:B45)),Dashboard_Data!$L$2:$L$30,0)),"")) | E45: =IF(C45="","",IFERROR(INDEX(Dashboard_Data!$D$2:$D$30,MATCH(LARGE(Dashboard_Data!$L$2:$L$30,ROWS($B$31:B45)),Dashboard_Data!$L$2:$L$30,0)),"")) | F45: =IF(C45="","",IFERROR(INDEX(Dashboard_Data!$F$2:$F$30,MATCH(LARGE(Dashboard_Data!$L$2:$L$30,ROWS($B$31:B45)),Dashboard_Data!$L$2:$L$30,0)),"")) | G45: =IF(C45="","",IFERROR(INDEX(Dashboard_Data!$G$2:$G$30,MATCH(LARGE(Dashboard_Data!$L$2:$L$30,ROWS($B$31:B45)),Dashboard_Data!$L$2:$L$30,0)),"")) | H45: =IF(C45="","",IFERROR(INDEX(Dashboard_Data!$H$2:$H$30,MATCH(LARGE(Dashboard_Data!$L$2:$L$30,ROWS($B$31:B45)),Dashboard_Data!$L$2:$L$30,0)),"")) | I45: =IF(C45="","",IFERROR(INDEX(Dashboard_Data!$I$2:$I$30,MATCH(LARGE(Dashboard_Data!$L$2:$L$30,ROWS($B$31:B45)),Dashboard_Data!$L$2:$L$30,0)),"")) | J45: =IF(C45="","",IFERROR(INDEX(Dashboard_Data!$J$2:$J$30,MATCH(LARGE(Dashboard_Data!$L$2:$L$30,ROWS($B$31:B45)),Dashboard_Data!$L$2:$L$30,0)),"")) | K45: =IF(C45="","",IFERROR(INDEX(Dashboard_Data!$K$2:$K$30,MATCH(LARGE(Dashboard_Data!$L$2:$L$30,ROWS($B$31:B45)),Dashboard_Data!$L$2:$L$30,0)),"")) | L45: =IF(C45="","",IF(K45="Action Required","Assign action owner + due date",IF(K45="Pending Evaluation","Complete compliance check",IF(K45="Maintain Compliance","Maintain evidence","Improve evidence/control"))))
B46: =IFERROR(IF(LARGE(Dashboard_Data!$L$2:$L$30,ROWS($B$31:B46))<0,"",16),"") | C46: =IFERROR(IF(LARGE(Dashboard_Data!$L$2:$L$30,ROWS($B$31:B46))<0,"",INDEX(Dashboard_Data!$A$2:$A$30,MATCH(LARGE(Dashboard_Data!$L$2:$L$30,ROWS($B$31:B46)),Dashboard_Data!$L$2:$L$30,0))),"") | D46: =IF(C46="","",IFERROR(INDEX(Dashboard_Data!$B$2:$B$30,MATCH(LARGE(Dashboard_Data!$L$2:$L$30,ROWS($B$31:B46)),Dashboard_Data!$L$2:$L$30,0)),"")) | E46: =IF(C46="","",IFERROR(INDEX(Dashboard_Data!$D$2:$D$30,MATCH(LARGE(Dashboard_Data!$L$2:$L$30,ROWS($B$31:B46)),Dashboard_Data!$L$2:$L$30,0)),"")) | F46: =IF(C46="","",IFERROR(INDEX(Dashboard_Data!$F$2:$F$30,MATCH(LARGE(Dashboard_Data!$L$2:$L$30,ROWS($B$31:B46)),Dashboard_Data!$L$2:$L$30,0)),"")) | G46: =IF(C46="","",IFERROR(INDEX(Dashboard_Data!$G$2:$G$30,MATCH(LARGE(Dashboard_Data!$L$2:$L$30,ROWS($B$31:B46)),Dashboard_Data!$L$2:$L$30,0)),"")) | H46: =IF(C46="","",IFERROR(INDEX(Dashboard_Data!$H$2:$H$30,MATCH(LARGE(Dashboard_Data!$L$2:$L$30,ROWS($B$31:B46)),Dashboard_Data!$L$2:$L$30,0)),"")) | I46: =IF(C46="","",IFERROR(INDEX(Dashboard_Data!$I$2:$I$30,MATCH(LARGE(Dashboard_Data!$L$2:$L$30,ROWS($B$31:B46)),Dashboard_Data!$L$2:$L$30,0)),"")) | J46: =IF(C46="","",IFERROR(INDEX(Dashboard_Data!$J$2:$J$30,MATCH(LARGE(Dashboard_Data!$L$2:$L$30,ROWS($B$31:B46)),Dashboard_Data!$L$2:$L$30,0)),"")) | K46: =IF(C46="","",IFERROR(INDEX(Dashboard_Data!$K$2:$K$30,MATCH(LARGE(Dashboard_Data!$L$2:$L$30,ROWS($B$31:B46)),Dashboard_Data!$L$2:$L$30,0)),"")) | L46: =IF(C46="","",IF(K46="Action Required","Assign action owner + due date",IF(K46="Pending Evaluation","Complete compliance check",IF(K46="Maintain Compliance","Maintain evidence","Improve evidence/control"))))
B47: =IFERROR(IF(LARGE(Dashboard_Data!$L$2:$L$30,ROWS($B$31:B47))<0,"",17),"") | C47: =IFERROR(IF(LARGE(Dashboard_Data!$L$2:$L$30,ROWS($B$31:B47))<0,"",INDEX(Dashboard_Data!$A$2:$A$30,MATCH(LARGE(Dashboard_Data!$L$2:$L$30,ROWS($B$31:B47)),Dashboard_Data!$L$2:$L$30,0))),"") | D47: =IF(C47="","",IFERROR(INDEX(Dashboard_Data!$B$2:$B$30,MATCH(LARGE(Dashboard_Data!$L$2:$L$30,ROWS($B$31:B47)),Dashboard_Data!$L$2:$L$30,0)),"")) | E47: =IF(C47="","",IFERROR(INDEX(Dashboard_Data!$D$2:$D$30,MATCH(LARGE(Dashboard_Data!$L$2:$L$30,ROWS($B$31:B47)),Dashboard_Data!$L$2:$L$30,0)),"")) | F47: =IF(C47="","",IFERROR(INDEX(Dashboard_Data!$F$2:$F$30,MATCH(LARGE(Dashboard_Data!$L$2:$L$30,ROWS($B$31:B47)),Dashboard_Data!$L$2:$L$30,0)),"")) | G47: =IF(C47="","",IFERROR(INDEX(Dashboard_Data!$G$2:$G$30,MATCH(LARGE(Dashboard_Data!$L$2:$L$30,ROWS($B$31:B47)),Dashboard_Data!$L$2:$L$30,0)),"")) | H47: =IF(C47="","",IFERROR(INDEX(Dashboard_Data!$H$2:$H$30,MATCH(LARGE(Dashboard_Data!$L$2:$L$30,ROWS($B$31:B47)),Dashboard_Data!$L$2:$L$30,0)),"")) | I47: =IF(C47="","",IFERROR(INDEX(Dashboard_Data!$I$2:$I$30,MATCH(LARGE(Dashboard_Data!$L$2:$L$30,ROWS($B$31:B47)),Dashboard_Data!$L$2:$L$30,0)),"")) | J47: =IF(C47="","",IFERROR(INDEX(Dashboard_Data!$J$2:$J$30,MATCH(LARGE(Dashboard_Data!$L$2:$L$30,ROWS($B$31:B47)),Dashboard_Data!$L$2:$L$30,0)),"")) | K47: =IF(C47="","",IFERROR(INDEX(Dashboard_Data!$K$2:$K$30,MATCH(LARGE(Dashboard_Data!$L$2:$L$30,ROWS($B$31:B47)),Dashboard_Data!$L$2:$L$30,0)),"")) | L47: =IF(C47="","",IF(K47="Action Required","Assign action owner + due date",IF(K47="Pending Evaluation","Complete compliance check",IF(K47="Maintain Compliance","Maintain evidence","Improve evidence/control"))))
B48: =IFERROR(IF(LARGE(Dashboard_Data!$L$2:$L$30,ROWS($B$31:B48))<0,"",18),"") | C48: =IFERROR(IF(LARGE(Dashboard_Data!$L$2:$L$30,ROWS($B$31:B48))<0,"",INDEX(Dashboard_Data!$A$2:$A$30,MATCH(LARGE(Dashboard_Data!$L$2:$L$30,ROWS($B$31:B48)),Dashboard_Data!$L$2:$L$30,0))),"") | D48: =IF(C48="","",IFERROR(INDEX(Dashboard_Data!$B$2:$B$30,MATCH(LARGE(Dashboard_Data!$L$2:$L$30,ROWS($B$31:B48)),Dashboard_Data!$L$2:$L$30,0)),"")) | E48: =IF(C48="","",IFERROR(INDEX(Dashboard_Data!$D$2:$D$30,MATCH(LARGE(Dashboard_Data!$L$2:$L$30,ROWS($B$31:B48)),Dashboard_Data!$L$2:$L$30,0)),"")) | F48: =IF(C48="","",IFERROR(INDEX(Dashboard_Data!$F$2:$F$30,MATCH(LARGE(Dashboard_Data!$L$2:$L$30,ROWS($B$31:B48)),Dashboard_Data!$L$2:$L$30,0)),"")) | G48: =IF(C48="","",IFERROR(INDEX(Dashboard_Data!$G$2:$G$30,MATCH(LARGE(Dashboard_Data!$L$2:$L$30,ROWS($B$31:B48)),Dashboard_Data!$L$2:$L$30,0)),"")) | H48: =IF(C48="","",IFERROR(INDEX(Dashboard_Data!$H$2:$H$30,MATCH(LARGE(Dashboard_Data!$L$2:$L$30,ROWS($B$31:B48)),Dashboard_Data!$L$2:$L$30,0)),"")) | I48: =IF(C48="","",IFERROR(INDEX(Dashboard_Data!$I$2:$I$30,MATCH(LARGE(Dashboard_Data!$L$2:$L$30,ROWS($B$31:B48)),Dashboard_Data!$L$2:$L$30,0)),"")) | J48: =IF(C48="","",IFERROR(INDEX(Dashboard_Data!$J$2:$J$30,MATCH(LARGE(Dashboard_Data!$L$2:$L$30,ROWS($B$31:B48)),Dashboard_Data!$L$2:$L$30,0)),"")) | K48: =IF(C48="","",IFERROR(INDEX(Dashboard_Data!$K$2:$K$30,MATCH(LARGE(Dashboard_Data!$L$2:$L$30,ROWS($B$31:B48)),Dashboard_Data!$L$2:$L$30,0)),"")) | L48: =IF(C48="","",IF(K48="Action Required","Assign action owner + due date",IF(K48="Pending Evaluation","Complete compliance check",IF(K48="Maintain Compliance","Maintain evidence","Improve evidence/control"))))
B49: =IFERROR(IF(LARGE(Dashboard_Data!$L$2:$L$30,ROWS($B$31:B49))<0,"",19),"") | C49: =IFERROR(IF(LARGE(Dashboard_Data!$L$2:$L$30,ROWS($B$31:B49))<0,"",INDEX(Dashboard_Data!$A$2:$A$30,MATCH(LARGE(Dashboard_Data!$L$2:$L$30,ROWS($B$31:B49)),Dashboard_Data!$L$2:$L$30,0))),"") | D49: =IF(C49="","",IFERROR(INDEX(Dashboard_Data!$B$2:$B$30,MATCH(LARGE(Dashboard_Data!$L$2:$L$30,ROWS($B$31:B49)),Dashboard_Data!$L$2:$L$30,0)),"")) | E49: =IF(C49="","",IFERROR(INDEX(Dashboard_Data!$D$2:$D$30,MATCH(LARGE(Dashboard_Data!$L$2:$L$30,ROWS($B$31:B49)),Dashboard_Data!$L$2:$L$30,0)),"")) | F49: =IF(C49="","",IFERROR(INDEX(Dashboard_Data!$F$2:$F$30,MATCH(LARGE(Dashboard_Data!$L$2:$L$30,ROWS($B$31:B49)),Dashboard_Data!$L$2:$L$30,0)),"")) | G49: =IF(C49="","",IFERROR(INDEX(Dashboard_Data!$G$2:$G$30,MATCH(LARGE(Dashboard_Data!$L$2:$L$30,ROWS($B$31:B49)),Dashboard_Data!$L$2:$L$30,0)),"")) | H49: =IF(C49="","",IFERROR(INDEX(Dashboard_Data!$H$2:$H$30,MATCH(LARGE(Dashboard_Data!$L$2:$L$30,ROWS($B$31:B49)),Dashboard_Data!$L$2:$L$30,0)),"")) | I49: =IF(C49="","",IFERROR(INDEX(Dashboard_Data!$I$2:$I$30,MATCH(LARGE(Dashboard_Data!$L$2:$L$30,ROWS($B$31:B49)),Dashboard_Data!$L$2:$L$30,0)),"")) | J49: =IF(C49="","",IFERROR(INDEX(Dashboard_Data!$J$2:$J$30,MATCH(LARGE(Dashboard_Data!$L$2:$L$30,ROWS($B$31:B49)),Dashboard_Data!$L$2:$L$30,0)),"")) | K49: =IF(C49="","",IFERROR(INDEX(Dashboard_Data!$K$2:$K$30,MATCH(LARGE(Dashboard_Data!$L$2:$L$30,ROWS($B$31:B49)),Dashboard_Data!$L$2:$L$30,0)),"")) | L49: =IF(C49="","",IF(K49="Action Required","Assign action owner + due date",IF(K49="Pending Evaluation","Complete compliance check",IF(K49="Maintain Compliance","Maintain evidence","Improve evidence/control"))))
...

Sheet Dashboard_Data
A1: Legal Area | B1: Group | C1: Total Requirements | D1: Applicable | E1: Not Applicable / NA | F1: Comply | G1: Not Comply | H1: Pending Evaluation | I1: Compliance % | J1: Evaluation Completion % | K1: Dashboard Status | L1: Priority Score
A2: OSHA 1994 | B2: Safety & Health | C2: =COUNTA(OSHA!$B$4:$B$29) -> 26 | D2: =COUNTIF(OSHA!$C$4:$C$29,"Applicable") -> 20 | E2: =COUNTIF(OSHA!$C$4:$C$29,"Not Applicable") -> 6 | F2: =COUNTIFS(OSHA!$C$4:$C$29,"Applicable",OSHA!$F$4:$F$29,"Comply")+COUNTIFS(OSHA!$C$4:$C$29,"Applicable",OSHA!$F$4:$F$29,"Compliant")+COUNTIFS(OSHA!$C$4:$C$29,"Applicable",OSHA!$F$4:$F$29,"Yes") -> 20 | G2: =COUNTIFS(OSHA!$C$4:$C$29,"Applicable",OSHA!$F$4:$F$29,"Not Comply")+COUNTIFS(OSHA!$C$4:$C$29,"Applicable",OSHA!$F$4:$F$29,"Non-Comply")+COUNTIFS(OSHA!$C$4:$C$29,"Applicable",OSHA!$F$4:$F$29,"Non Comply")+COUNTIFS(OSHA!$C$4:$C$29,"Applicable",OSHA!$F$4:$F$29,"No") -> 0 | H2: =MAX(0,D2-F2-G2) -> 0 | I2: =IF(D2=0,0,F2/D2) -> 1 | J2: =IF(D2=0,0,(F2+G2)/D2) -> 1 | K2: =IF(G2>0,"Action Required",IF(H2>0,"Pending Evaluation",IF(I2>=0.95,"Maintain Compliance","Improve Compliance"))) -> Maintain Compliance | L2: =IF(D2=0,-ROW()/1000,IF(A2="OSHA 1994",7000000,IF(A2="EQA 1974",6900000,IF(OR(A2="WSIA 2006",A2="CIDB Act 1994",A2="Pesticides Act 1974",A2="Sewerage Services Act 1993",A2="FSA 1988"),6800000,IF(OR(A2="EQ (Diesel Engine) Reg. 2000",A2="EQ (Solid Waste) Reg. 2009",A2="EQ (Control of Petrol & Diesel) Reg. 2007",A2="EQ (Ind. Effluent) Reg. 2009",A2="EQ (Clean Air) Reg. 2014",A2="OSH (CF) Reg. 2024",A2="EQ (SW) 2005",A2="OSH (USECHH) Reg 2000",A2="pesticides (labelling) Reg. 1984",A2="OSH (CLASS) Reg. 2013",A2="OSH (NADOPOD) Reg. 2004",A2="OSH (Noise Exp.) Reg. 2019",A2="OSH (SHC) Reg. 1996",A2="OSH (CDM) Reg. 2024",A2="FS (Fire Cert.) Reg. 2001",A2="EQ (Sewage) Reg. 2009",A2="EQ (Refrigerant) Reg. 1999"),6000000,IF(ISNUMBER(SEARCH("Order",A2)),5000000,IF(A2="ICOP Transport 2010",4000000,IF(A2="WSI (Sewerage System) Rules 2013",3000000,IF(A2="MHA Guidance",2000000,1000000))))))))+G2*1000+H2*100+(1-I2)*10-ROW()/1000) -> 7000000
A3: MHA Guidance | B3: Safety & Health | C3: =COUNTA(MHA!$B$4:$B$7) -> 4 | D3: =COUNTIF(MHA!$C$4:$C$7,"Applicable") -> 0 | E3: =COUNTIF(MHA!$C$4:$C$7,"Not Applicable") -> 4 | F3: =COUNTIFS(MHA!$C$4:$C$7,"Applicable",MHA!$F$4:$F$7,"Comply")+COUNTIFS(MHA!$C$4:$C$7,"Applicable",MHA!$F$4:$F$7,"Compliant")+COUNTIFS(MHA!$C$4:$C$7,"Applicable",MHA!$F$4:$F$7,"Yes") -> 0 | G3: =COUNTIFS(MHA!$C$4:$C$7,"Applicable",MHA!$F$4:$F$7,"Not Comply")+COUNTIFS(MHA!$C$4:$C$7,"Applicable",MHA!$F$4:$F$7,"Non-Comply")+COUNTIFS(MHA!$C$4:$C$7,"Applicable",MHA!$F$4:$F$7,"Non Comply")+COUNTIFS(MHA!$C$4:$C$7,"Applicable",MHA!$F$4:$F$7,"No") -> 0 | H3: =MAX(0,D3-F3-G3) -> 0 | I3: =IF(D3=0,0,F3/D3) -> 0 | J3: =IF(D3=0,0,(F3+G3)/D3) -> 0 | K3: =IF(G3>0,"Action Required",IF(H3>0,"Pending Evaluation",IF(I3>=0.95,"Maintain Compliance","Improve Compliance"))) -> Improve Compliance | L3: =IF(D3=0,-ROW()/1000,IF(A3="OSHA 1994",7000000,IF(A3="EQA 1974",6900000,IF(OR(A3="WSIA 2006",A3="CIDB Act 1994",A3="Pesticides Act 1974",A3="Sewerage Services Act 1993",A3="FSA 1988"),6800000,IF(OR(A3="EQ (Diesel Engine) Reg. 2000",A3="EQ (Solid Waste) Reg. 2009",A3="EQ (Control of Petrol & Diesel) Reg. 2007",A3="EQ (Ind. Effluent) Reg. 2009",A3="EQ (Clean Air) Reg. 2014",A3="OSH (CF) Reg. 2024",A3="EQ (SW) 2005",A3="OSH (USECHH) Reg 2000",A3="pesticides (labelling) Reg. 1984",A3="OSH (CLASS) Reg. 2013",A3="OSH (NADOPOD) Reg. 2004",A3="OSH (Noise Exp.) Reg. 2019",A3="OSH (SHC) Reg. 1996",A3="OSH (CDM) Reg. 2024",A3="FS (Fire Cert.) Reg. 2001",A3="EQ (Sewage) Reg. 2009",A3="EQ (Refrigerant) Reg. 1999"),6000000,IF(ISNUMBER(SEARCH("Order",A3)),5000000,IF(A3="ICOP Transport 2010",4000000,IF(A3="WSI (Sewerage System) Rules 2013",3000000,IF(A3="MHA Guidance",2000000,1000000))))))))+G3*1000+H3*100+(1-I3)*10-ROW()/1000) -> -0.003
A4: EQ (Diesel Engine) Reg. 2000 | B4: Environment | C4: =COUNTA('diesel engine'!$B$4:$B$16) -> 13 | D4: =COUNTIF('diesel engine'!$C$4:$C$16,"Applicable") -> 0 | E4: =COUNTIF('diesel engine'!$C$4:$C$16,"Not Applicable") -> 13 | F4: =COUNTIFS('diesel engine'!$C$4:$C$16,"Applicable",'diesel engine'!$F$4:$F$16,"Comply")+COUNTIFS('diesel engine'!$C$4:$C$16,"Applicable",'diesel engine'!$F$4:$F$16,"Compliant")+COUNTIFS('diesel engine'!$C$4:$C$16,"Applicable",'diesel engine'!$F$4:$F$16,"Yes") -> 0 | G4: =COUNTIFS('diesel engine'!$C$4:$C$16,"Applicable",'diesel engine'!$F$4:$F$16,"Not Comply")+COUNTIFS('diesel engine'!$C$4:$C$16,"Applicable",'diesel engine'!$F$4:$F$16,"Non-Comply")+COUNTIFS('diesel engine'!$C$4:$C$16,"Applicable",'diesel engine'!$F$4:$F$16,"Non Comply")+COUNTIFS('diesel engine'!$C$4:$C$16,"Applicable",'diesel engine'!$F$4:$F$16,"No") -> 0 | H4: =MAX(0,D4-F4-G4) -> 0 | I4: =IF(D4=0,0,F4/D4) -> 0 | J4: =IF(D4=0,0,(F4+G4)/D4) -> 0 | K4: =IF(G4>0,"Action Required",IF(H4>0,"Pending Evaluation",IF(I4>=0.95,"Maintain Compliance","Improve Compliance"))) -> Improve Compliance | L4: =IF(D4=0,-ROW()/1000,IF(A4="OSHA 1994",7000000,IF(A4="EQA 1974",6900000,IF(OR(A4="WSIA 2006",A4="CIDB Act 1994",A4="Pesticides Act 1974",A4="Sewerage Services Act 1993",A4="FSA 1988"),6800000,IF(OR(A4="EQ (Diesel Engine) Reg. 2000",A4="EQ (Solid Waste) Reg. 2009",A4="EQ (Control of Petrol & Diesel) Reg. 2007",A4="EQ (Ind. Effluent) Reg. 2009",A4="EQ (Clean Air) Reg. 2014",A4="OSH (CF) Reg. 2024",A4="EQ (SW) 2005",A4="OSH (USECHH) Reg 2000",A4="pesticides (labelling) Reg. 1984",A4="OSH (CLASS) Reg. 2013",A4="OSH (NADOPOD) Reg. 2004",A4="OSH (Noise Exp.) Reg. 2019",A4="OSH (SHC) Reg. 1996",A4="OSH (CDM) Reg. 2024",A4="FS (Fire Cert.) Reg. 2001",A4="EQ (Sewage) Reg. 2009",A4="EQ (Refrigerant) Reg. 1999"),6000000,IF(ISNUMBER(SEARCH("Order",A4)),5000000,IF(A4="ICOP Transport 2010",4000000,IF(A4="WSI (Sewerage System) Rules 2013",3000000,IF(A4="MHA Guidance",2000000,1000000))))))))+G4*1000+H4*100+(1-I4)*10-ROW()/1000) -> -0.004
A5: EQ (Solid Waste) Reg. 2009 | B5: Environment | C5: =COUNTA('solid waste'!$B$4:$B$26) -> 23 | D5: =COUNTIF('solid waste'!$C$4:$C$26,"Applicable") -> 0 | E5: =COUNTIF('solid waste'!$C$4:$C$26,"Not Applicable") -> 23 | F5: =COUNTIFS('solid waste'!$C$4:$C$26,"Applicable",'solid waste'!$F$4:$F$26,"Comply")+COUNTIFS('solid waste'!$C$4:$C$26,"Applicable",'solid waste'!$F$4:$F$26,"Compliant")+COUNTIFS('solid waste'!$C$4:$C$26,"Applicable",'solid waste'!$F$4:$F$26,"Yes") -> 0 | G5: =COUNTIFS('solid waste'!$C$4:$C$26,"Applicable",'solid waste'!$F$4:$F$26,"Not Comply")+COUNTIFS('solid waste'!$C$4:$C$26,"Applicable",'solid waste'!$F$4:$F$26,"Non-Comply")+COUNTIFS('solid waste'!$C$4:$C$26,"Applicable",'solid waste'!$F$4:$F$26,"Non Comply")+COUNTIFS('solid waste'!$C$4:$C$26,"Applicable",'solid waste'!$F$4:$F$26,"No") -> 0 | H5: =MAX(0,D5-F5-G5) -> 0 | I5: =IF(D5=0,0,F5/D5) -> 0 | J5: =IF(D5=0,0,(F5+G5)/D5) -> 0 | K5: =IF(G5>0,"Action Required",IF(H5>0,"Pending Evaluation",IF(I5>=0.95,"Maintain Compliance","Improve Compliance"))) -> Improve Compliance | L5: =IF(D5=0,-ROW()/1000,IF(A5="OSHA 1994",7000000,IF(A5="EQA 1974",6900000,IF(OR(A5="WSIA 2006",A5="CIDB Act 1994",A5="Pesticides Act 1974",A5="Sewerage Services Act 1993",A5="FSA 1988"),6800000,IF(OR(A5="EQ (Diesel Engine) Reg. 2000",A5="EQ (Solid Waste) Reg. 2009",A5="EQ (Control of Petrol & Diesel) Reg. 2007",A5="EQ (Ind. Effluent) Reg. 2009",A5="EQ (Clean Air) Reg. 2014",A5="OSH (CF) Reg. 2024",A5="EQ (SW) 2005",A5="OSH (USECHH) Reg 2000",A5="pesticides (labelling) Reg. 1984",A5="OSH (CLASS) Reg. 2013",A5="OSH (NADOPOD) Reg. 2004",A5="OSH (Noise Exp.) Reg. 2019",A5="OSH (SHC) Reg. 1996",A5="OSH (CDM) Reg. 2024",A5="FS (Fire Cert.) Reg. 2001",A5="EQ (Sewage) Reg. 2009",A5="EQ (Refrigerant) Reg. 1999"),6000000,IF(ISNUMBER(SEARCH("Order",A5)),5000000,IF(A5="ICOP Transport 2010",4000000,IF(A5="WSI (Sewerage System) Rules 2013",3000000,IF(A5="MHA Guidance",2000000,1000000))))))))+G5*1000+H5*100+(1-I5)*10-ROW()/1000) -> -0.005
A6: EQ (Control of Petrol & Diesel) Reg. 2007 | B6: Environment | C6: =COUNTA('Control of Petrol & Diesel'!$B$4:$B$16) -> 13 | D6: =COUNTIF('Control of Petrol & Diesel'!$C$4:$C$16,"Applicable") -> 0 | E6: =COUNTIF('Control of Petrol & Diesel'!$C$4:$C$16,"Not Applicable") -> 13 | F6: =COUNTIFS('Control of Petrol & Diesel'!$C$4:$C$16,"Applicable",'Control of Petrol & Diesel'!$F$4:$F$16,"Comply")+COUNTIFS('Control of Petrol & Diesel'!$C$4:$C$16,"Applicable",'Control of Petrol & Diesel'!$F$4:$F$16,"Compliant")+COUNTIFS('Control of Petrol & Diesel'!$C$4:$C$16,"Applicable",'Control of Petrol & Diesel'!$F$4:$F$16,"Yes") -> 0 | G6: =COUNTIFS('Control of Petrol & Diesel'!$C$4:$C$16,"Applicable",'Control of Petrol & Diesel'!$F$4:$F$16,"Not Comply")+COUNTIFS('Control of Petrol & Diesel'!$C$4:$C$16,"Applicable",'Control of Petrol & Diesel'!$F$4:$F$16,"Non-Comply")+COUNTIFS('Control of Petrol & Diesel'!$C$4:$C$16,"Applicable",'Control of Petrol & Diesel'!$F$4:$F$16,"Non Comply")+COUNTIFS('Control of Petrol & Diesel'!$C$4:$C$16,"Applicable",'Control of Petrol & Diesel'!$F$4:$F$16,"No") -> 0 | H6: =MAX(0,D6-F6-G6) -> 0 | I6: =IF(D6=0,0,F6/D6) -> 0 | J6: =IF(D6=0,0,(F6+G6)/D6) -> 0 | K6: =IF(G6>0,"Action Required",IF(H6>0,"Pending Evaluation",IF(I6>=0.95,"Maintain Compliance","Improve Compliance"))) -> Improve Compliance | L6: =IF(D6=0,-ROW()/1000,IF(A6="OSHA 1994",7000000,IF(A6="EQA 1974",6900000,IF(OR(A6="WSIA 2006",A6="CIDB Act 1994",A6="Pesticides Act 1974",A6="Sewerage Services Act 1993",A6="FSA 1988"),6800000,IF(OR(A6="EQ (Diesel Engine) Reg. 2000",A6="EQ (Solid Waste) Reg. 2009",A6="EQ (Control of Petrol & Diesel) Reg. 2007",A6="EQ (Ind. Effluent) Reg. 2009",A6="EQ (Clean Air) Reg. 2014",A6="OSH (CF) Reg. 2024",A6="EQ (SW) 2005",A6="OSH (USECHH) Reg 2000",A6="pesticides (labelling) Reg. 1984",A6="OSH (CLASS) Reg. 2013",A6="OSH (NADOPOD) Reg. 2004",A6="OSH (Noise Exp.) Reg. 2019",A6="OSH (SHC) Reg. 1996",A6="OSH (CDM) Reg. 2024",A6="FS (Fire Cert.) Reg. 2001",A6="EQ (Sewage) Reg. 2009",A6="EQ (Refrigerant) Reg. 1999"),6000000,IF(ISNUMBER(SEARCH("Order",A6)),5000000,IF(A6="ICOP Transport 2010",4000000,IF(A6="WSI (Sewerage System) Rules 2013",3000000,IF(A6="MHA Guidance",2000000,1000000))))))))+G6*1000+H6*100+(1-I6)*10-ROW()/1000) -> -0.006
A7: EQ (Ind. Effluent) Reg. 2009 | B7: Environment | C7: =COUNTA(effluent!$B$4:$B$26) -> 23 | D7: =COUNTIF(effluent!$C$4:$C$26,"Applicable") -> 0 | E7: =COUNTIF(effluent!$C$4:$C$26,"Not Applicable") -> 23 | F7: =COUNTIFS(effluent!$C$4:$C$26,"Applicable",effluent!$F$4:$F$26,"Comply")+COUNTIFS(effluent!$C$4:$C$26,"Applicable",effluent!$F$4:$F$26,"Compliant")+COUNTIFS(effluent!$C$4:$C$26,"Applicable",effluent!$F$4:$F$26,"Yes") -> 0 | G7: =COUNTIFS(effluent!$C$4:$C$26,"Applicable",effluent!$F$4:$F$26,"Not Comply")+COUNTIFS(effluent!$C$4:$C$26,"Applicable",effluent!$F$4:$F$26,"Non-Comply")+COUNTIFS(effluent!$C$4:$C$26,"Applicable",effluent!$F$4:$F$26,"Non Comply")+COUNTIFS(effluent!$C$4:$C$26,"Applicable",effluent!$F$4:$F$26,"No") -> 0 | H7: =MAX(0,D7-F7-G7) -> 0 | I7: =IF(D7=0,0,F7/D7) -> 0 | J7: =IF(D7=0,0,(F7+G7)/D7) -> 0 | K7: =IF(G7>0,"Action Required",IF(H7>0,"Pending Evaluation",IF(I7>=0.95,"Maintain Compliance","Improve Compliance"))) -> Improve Compliance | L7: =IF(D7=0,-ROW()/1000,IF(A7="OSHA 1994",7000000,IF(A7="EQA 1974",6900000,IF(OR(A7="WSIA 2006",A7="CIDB Act 1994",A7="Pesticides Act 1974",A7="Sewerage Services Act 1993",A7="FSA 1988"),6800000,IF(OR(A7="EQ (Diesel Engine) Reg. 2000",A7="EQ (Solid Waste) Reg. 2009",A7="EQ (Control of Petrol & Diesel) Reg. 2007",A7="EQ (Ind. Effluent) Reg. 2009",A7="EQ (Clean Air) Reg. 2014",A7="OSH (CF) Reg. 2024",A7="EQ (SW) 2005",A7="OSH (USECHH) Reg 2000",A7="pesticides (labelling) Reg. 1984",A7="OSH (CLASS) Reg. 2013",A7="OSH (NADOPOD) Reg. 2004",A7="OSH (Noise Exp.) Reg. 2019",A7="OSH (SHC) Reg. 1996",A7="OSH (CDM) Reg. 2024",A7="FS (Fire Cert.) Reg. 2001",A7="EQ (Sewage) Reg. 2009",A7="EQ (Refrigerant) Reg. 1999"),6000000,IF(ISNUMBER(SEARCH("Order",A7)),5000000,IF(A7="ICOP Transport 2010",4000000,IF(A7="WSI (Sewerage System) Rules 2013",3000000,IF(A7="MHA Guidance",2000000,1000000))))))))+G7*1000+H7*100+(1-I7)*10-ROW()/1000) -> -0.007
